BEGIN:VCALENDAR
VERSION:2.0
PRODID:-//Division of Biology &amp; Biomedical Sciences//NONSGML Events//EN
CALSCALE:GREGORIAN
X-ORIGINAL-URL:https://dbbs.wustl.edu/calendar/
X-WR-CALDESC:Division of Biology &amp; Biomedical Sciences - Events
BEGIN:VEVENT
UID:20240417T2317Z-1713395822.0092-EO-10715-1@172.23.128.18
STATUS:CONFIRMED
DTSTAMP:20260423T200233Z
CREATED:20240417T224650Z
LAST-MODIFIED:20240417T224839Z
DTSTART;VALUE=DATE:20240425
DTEND;VALUE=DATE:20240426
SUMMARY: 2024 Inspire Conference
DESCRIPTION: Keynote Address: Dr. Karmella A. Haynes\, PhD Emory University
  and Georgia Institute of Technology 2:45pm – 3:45pm Moore Auditorium
X-ALT-DESC;FMTTYPE=text/html: <p class="blockElement firstBlock"><span clas
 s="inline-head inlineElement">Keynote Address:</span></p><p class="blockEle
 ment lastBlock"><span class="inlineElement text-decoration-underline">Dr. K
 armella A. Haynes\, PhD</span><span class="inlineElement"><br />Emory Unive
 rsity and Georgia Institute of Technology</span></p><p class="blockElement 
 firstBlock align-center"><span class="inline-head inlineElement">2:45pm - 3
 :45pm<br /></span><span class="inlineElement">Moore Auditorium</span></p>
CATEGORIES:DBBS Sponsored Event
ORGANIZER;CN="Brian":MAILTO:bmarston@wustl.edu
URL;VALUE=URI:https://dbbs.wustl.edu/events/event/2024-inspire-conference/
END:VEVENT
BEGIN:VTIMEZONE
TZID:America/Chicago
BEGIN:DAYLIGHT
TZOFFSETFROM:-0600
TZOFFSETTO:-0500
DTSTART:20240310T080000
TZNAME:CDT
END:DAYLIGHT
END:VTIMEZONE
END:VCALENDAR
