BEGIN:VCALENDAR
VERSION:2.0
PRODID:-//Division of Biology &amp; Biomedical Sciences//NONSGML Events//EN
CALSCALE:GREGORIAN
X-ORIGINAL-URL:https://dbbs.wustl.edu/calendar/
X-WR-CALDESC:Division of Biology &amp; Biomedical Sciences - Events
BEGIN:VEVENT
UID:20231202T1620Z-1701534045.791-EO-10373-1@172.23.128.18
STATUS:CONFIRMED
DTSTAMP:20260421T223214Z
CREATED:20231202T160325Z
LAST-MODIFIED:20231202T160325Z
DTSTART;TZID=America/Chicago:20231214T173000
DTEND;TZID=America/Chicago:20231214T203000
SUMMARY: A SACNAS Posada (Winter Potluck)
DESCRIPTION: Join SACNAS for a holiday posada! This classic winter potluck 
 is an open invitation to all. Celebrate with SACNAS this winter by sharing 
 a food dish and trying others! Play games\, wear an ugly holiday sweater\, 
 and celebrate with the SACNAS family. Location is to be determined. Follow 
 us on social media and RSVP to […]
X-ALT-DESC;FMTTYPE=text/html: <p>Join SACNAS for a holiday posada! This cla
 ssic winter potluck is an open invitation to all. Celebrate with SACNAS thi
 s winter by sharing a food dish and trying others! Play games\, wear an ugl
 y holiday sweater\, and celebrate with the SACNAS family. Location is to be
  determined. Follow us on social media and RSVP to stay updated on the even
 t details.</p><p><em>RSVP form: <a href="https://nam10.safelinks.protection
 .outlook.com/?url=https%3A%2F%2Fforms.gle%2FGNaQCC7XZ2hqdGiCA&data=05%7C01%
 7Ck.evans%40email.wustl.edu%7C9b3ba780ab6b4f79c22b08dbf29061d9%7C4ccca3b571
 cd4e6d974b4d9beb96c6d6%7C0%7C0%7C638370474188660963%7CUnknown%7CTWFpbGZsb3d
 8eyJWIjoiMC4wLjAwMDAiLCJQIjoiV2luMzIiLCJBTiI6Ik1haWwiLCJXVCI6Mn0%3D%7C3000%
 7C%7C%7C&sdata=hwb0mZT524MqJFlFPZCqzQCR%2FnCE%2BtV0zPPum9vZpZI%3D&reserved=
 0">https://forms.gle/GNaQCC7XZ2hqdGiCA</a></em></p>
CATEGORIES:DBBS Sponsored Event,DBBS Student Organization
LOCATION:TBD
GEO:0.000000;0.000000
ORGANIZER;CN="Brian":MAILTO:bmarston@wustl.edu
URL;VALUE=URI:https://dbbs.wustl.edu/events/event/a-sacnas-posada-winter-po
 tluck/
END:VEVENT
BEGIN:VTIMEZONE
TZID:America/Chicago
BEGIN:STANDARD
TZOFFSETFROM:-0500
TZOFFSETTO:-0600
DTSTART:20231105T070000
TZNAME:CST
END:STANDARD
END:VTIMEZONE
END:VCALENDAR
