BEGIN:VCALENDAR
VERSION:2.0
PRODID:-//Division of Biology &amp; Biomedical Sciences//NONSGML Events//EN
CALSCALE:GREGORIAN
X-ORIGINAL-URL:https://dbbs.wustl.edu/calendar/
X-WR-CALDESC:Division of Biology &amp; Biomedical Sciences - Events
BEGIN:VEVENT
UID:20240327T1551Z-1711554683.3195-EO-10622-1@172.23.128.18
STATUS:CONFIRMED
DTSTAMP:20260421T071735Z
CREATED:20240327T152228Z
LAST-MODIFIED:20240327T152228Z
DTSTART;TZID=America/Chicago:20240403T113000
DTEND;TZID=America/Chicago:20240403T130000
SUMMARY: DBBS 2nd year Ethics Course Begins
X-ALT-DESC;FMTTYPE=text/html: 
CATEGORIES:DBBS Seminar
LOCATION:Moore Auditorium
GEO:0;0
ORGANIZER;CN="Brian":MAILTO:bmarston@wustl.edu
URL;VALUE=URI:https://dbbs.wustl.edu/events/event/dbbs-2nd-year-ethics-cour
 se-begins/
END:VEVENT
BEGIN:VTIMEZONE
TZID:America/Chicago
BEGIN:DAYLIGHT
TZOFFSETFROM:-0600
TZOFFSETTO:-0500
DTSTART:20240310T080000
TZNAME:CDT
END:DAYLIGHT
END:VTIMEZONE
END:VCALENDAR
