BEGIN:VCALENDAR
VERSION:2.0
PRODID:-//Division of Biology &amp; Biomedical Sciences//NONSGML Events//EN
CALSCALE:GREGORIAN
X-ORIGINAL-URL:https://dbbs.wustl.edu/calendar/
X-WR-CALDESC:Division of Biology &amp; Biomedical Sciences - Events
BEGIN:VEVENT
UID:20230317T2020Z-1679084440.2793-EO-7783-1@172.23.128.18
STATUS:CONFIRMED
DTSTAMP:20260420T222929Z
CREATED:20230317T174717Z
LAST-MODIFIED:20230317T174717Z
DTSTART;VALUE=DATE:20230428
DTEND;VALUE=DATE:20230430
SUMMARY: DBBS 50th Anniversary Celebration
DESCRIPTION: DBBS 50th Anniversary Celebration
X-ALT-DESC;FMTTYPE=text/html: <p>https://dbbs.wustl.edu/about/dbbs_50thanni
 versary/</p>
CATEGORIES:DBBS Sponsored Event
ORGANIZER;CN="Leslie":MAILTO:leslieskaggs@wustl.edu
URL;VALUE=URI:https://dbbs.wustl.edu/events/event/dbbs-50th-anniversary-cel
 ebration/
END:VEVENT
BEGIN:VTIMEZONE
TZID:America/Chicago
BEGIN:DAYLIGHT
TZOFFSETFROM:-0600
TZOFFSETTO:-0500
DTSTART:20230312T080000
TZNAME:CDT
END:DAYLIGHT
END:VTIMEZONE
END:VCALENDAR
