BEGIN:VCALENDAR
VERSION:2.0
PRODID:-//Division of Biology &amp; Biomedical Sciences//NONSGML Events//EN
CALSCALE:GREGORIAN
X-ORIGINAL-URL:https://dbbs.wustl.edu/calendar/
X-WR-CALDESC:Division of Biology &amp; Biomedical Sciences - Events
BEGIN:VEVENT
UID:20260401T1437Z-1775054259.1563-EO-56215-1@10.73.4.136
STATUS:CONFIRMED
DTSTAMP:20260424T122912Z
CREATED:20260401T142709Z
LAST-MODIFIED:20260401T142709Z
DTSTART;TZID=America/Chicago:20260410T130000
DTEND;TZID=America/Chicago:20260410T150000
SUMMARY: DBBS Career and Professional Development month- Headshots
DESCRIPTION: Invest in your future with a FREE professional headshot. https
 ://www.signupgenius.com/go/60B0B49A5A829A0FA7-63006387-headshots
X-ALT-DESC;FMTTYPE=text/html: <p>Invest in your future with a FREE professi
 onal headshot.</p><p><a title="Original URL: https://www.signupgenius.com/g
 o/60B0B49A5A829A0FA7-63006387-headshots. Click or tap if you trust this lin
 k." href="https://nam10.safelinks.protection.outlook.com/?url=https%3A%2F%2
 Fwww.signupgenius.com%2Fgo%2F60B0B49A5A829A0FA7-63006387-headshots&data=05%
 7C02%7Cbbriana%40wustl.edu%7C674604392a484f4e2a0a08de8687c1d0%7C4ccca3b571c
 d4e6d974b4d9beb96c6d6%7C0%7C0%7C639096114794873056%7CUnknown%7CTWFpbGZsb3d8
 eyJFbXB0eU1hcGkiOnRydWUsIlYiOiIwLjAuMDAwMCIsIlAiOiJXaW4zMiIsIkFOIjoiTWFpbCI
 sIldUIjoyfQ%3D%3D%7C0%7C%7C%7C&sdata=%2Fyy3co7J5q6RqpZAhBVyN5Bx4hsJXyCPloOW
 IsC6gOI%3D&reserved=0" target="_blank" rel="noopener noreferrer" data-auth=
 "NotApplicable" data-linkindex="0" data-olk-copy-source="MessageBody">https
 ://www.signupgenius.com/go/60B0B49A5A829A0FA7-63006387-<span class="mark2z5
 bmgqfm" data-markjs="true" data-ogac="" data-ogab="" data-ogsc="" data-ogsb
 ="">headshots</span></a></p>
CATEGORIES:DBBS Sponsored Event
LOCATION:TBD
GEO:0.000000;0.000000
ORGANIZER;CN="Anthony":MAILTO:privitor@wustl.edu
URL;VALUE=URI:https://dbbs.wustl.edu/events/event/dbbs-career-and-professio
 nal-development-month-headshots/
ATTACH;FMTTYPE=image/png:https://dbbs.wustl.edu/app/uploads/2026/03/Free-Headshots-CPD-Month.png
END:VEVENT
BEGIN:VTIMEZONE
TZID:America/Chicago
BEGIN:DAYLIGHT
TZOFFSETFROM:-0600
TZOFFSETTO:-0500
DTSTART:20260308T080000
TZNAME:CDT
END:DAYLIGHT
END:VTIMEZONE
END:VCALENDAR
