BEGIN:VCALENDAR
VERSION:2.0
PRODID:-//Division of Biology &amp; Biomedical Sciences//NONSGML Events//EN
CALSCALE:GREGORIAN
X-ORIGINAL-URL:https://dbbs.wustl.edu/calendar/
X-WR-CALDESC:Division of Biology &amp; Biomedical Sciences - Events
BEGIN:VEVENT
UID:20260324T2106Z-1774386368.8269-EO-56167-1@10.73.4.136
STATUS:CONFIRMED
DTSTAMP:20260423T124820Z
CREATED:20260324T205349Z
LAST-MODIFIED:20260324T222138Z
DTSTART;TZID=America/Chicago:20260331T130000
DTEND;TZID=America/Chicago:20260331T170000
SUMMARY: Needleman Drug Discovery Symposium
DESCRIPTION: Join us as we honor the legacy of Dr. Phil Needleman\, founder
  of the Needleman Program of Innovation & Commercialization (NPIC). The sym
 posium will highlight the outstanding scientific advances in NPIC-funded dr
 ug discovery efforts by investigators Dr. John DiPersio\, Dr. Carl DeSelm\,
  and Dr. Kory Lavine\, and learn about future funding opportunities. RSVP b
 y March25\, […]
X-ALT-DESC;FMTTYPE=text/html: <p>Join us as we honor the legacy of Dr. Phil
  Needleman\, founder of the Needleman Program of Innovation & Commercializa
 tion (NPIC). The symposium will highlight the outstanding scientific advanc
 es in NPIC-funded drug discovery efforts by investigators Dr. John DiPersio
 \, Dr. Carl DeSelm\, and Dr. Kory Lavine\, and learn about future funding o
 pportunities.</p><p><em>RSVP by March25\, 2026</em><br /><a href="http://np
 ic.wustl.edu">npic.wustl.edu</a></p>
CATEGORIES:DBBS Sponsored Event
LOCATION:EPNEC Auditorium
GEO:0;0
ORGANIZER;CN="Anthony":MAILTO:privitor@wustl.edu
URL;VALUE=URI:https://dbbs.wustl.edu/events/event/needleman-drug-discovery-
 symposium/
ATTACH;FMTTYPE=image/png:https://dbbs.wustl.edu/app/uploads/2026/03/NPIC-Symposium-Horizontal-PPT.png
END:VEVENT
BEGIN:VTIMEZONE
TZID:America/Chicago
BEGIN:DAYLIGHT
TZOFFSETFROM:-0600
TZOFFSETTO:-0500
DTSTART:20260308T080000
TZNAME:CDT
END:DAYLIGHT
END:VTIMEZONE
END:VCALENDAR
