BEGIN:VCALENDAR
VERSION:2.0
PRODID:-//Division of Biology &amp; Biomedical Sciences//NONSGML Events//EN
CALSCALE:GREGORIAN
X-ORIGINAL-URL:https://dbbs.wustl.edu/calendar/
X-WR-CALDESC:Division of Biology &amp; Biomedical Sciences - Events
BEGIN:VEVENT
UID:20251010T1834Z-1760121258.2604-EO-49677-1@10.73.4.136
STATUS:CONFIRMED
DTSTAMP:20260424T023221Z
CREATED:20251010T183408Z
LAST-MODIFIED:20251010T183408Z
DTSTART;TZID=America/Chicago:20251125T173000
DTEND;TZID=America/Chicago:20251125T190000
SUMMARY: Next Generation Science Scholars Thanksgiving Dinner
DESCRIPTION: The Next Generation Science Scholars program will host a Thank
 sgiving Dinner on Tuesday\, November 25th in Cori starting at 5:30. If you 
 interested in attending the dinner\, please RSVP here:  https://docs.google
 .com/spreadsheets/d/1uEsJxJ5nAlUbBbhZgdKbUbNY6AJPqJu2Ty3gi2-jqNQ/edit?usp=s
 haring. If you are interested in joining the NGSS program or have questions
  about it\, please contact Jim Skeath (jskeath@wustl.edu) or Tracey Hermany
 styne (hermanstynet@wustl.edu).
X-ALT-DESC;FMTTYPE=text/html: <div data-olk-copy-source="MessageBody">The N
 ext Generation Science Scholars program will host a Thanksgiving Dinner on 
 Tuesday\, November 25th in Cori starting at 5:30. If you interested in atte
 nding the dinner\, please RSVP here:  <a id="LPlnkOWA94f7535a-9d5a-db09-079
 6-cb8fb903bf7b" title="Original URL: https://docs.google.com/spreadsheets/d
 /1uEsJxJ5nAlUbBbhZgdKbUbNY6AJPqJu2Ty3gi2-jqNQ/edit?usp=sharing. Click or ta
 p if you trust this link." href="https://nam10.safelinks.protection.outlook
 .com/?url=https%3A%2F%2Fdocs.google.com%2Fspreadsheets%2Fd%2F1uEsJxJ5nAlUbB
 bhZgdKbUbNY6AJPqJu2Ty3gi2-jqNQ%2Fedit%3Fusp%3Dsharing&data=05%7C02%7Cbbrian
 a%40wustl.edu%7C4c0e75c3fee64100af6708de075b7f85%7C4ccca3b571cd4e6d974b4d9b
 eb96c6d6%7C0%7C0%7C638956286716436738%7CUnknown%7CTWFpbGZsb3d8eyJFbXB0eU1hc
 GkiOnRydWUsIlYiOiIwLjAuMDAwMCIsIlAiOiJXaW4zMiIsIkFOIjoiTWFpbCIsIldUIjoyfQ%3
 D%3D%7C0%7C%7C%7C&sdata=PXbaQxLG74wVvRA4pYEqpE5bZ7lRI3vezkYqF2j%2B9sQ%3D&re
 served=0" target="_blank" rel="noopener noreferrer" data-auth="NotApplicabl
 e" data-linkindex="0">https://docs.google.com/spreadsheets/d/1uEsJxJ5nAlUbB
 bhZgdKbUbNY6AJPqJu2Ty3gi2-jqNQ/edit?usp=sharing</a>.</div><div>If you are i
 nterested in joining the NGSS program or have questions about it\, please c
 ontact Jim Skeath (<u><a id="OWAc7d6ebb6-1126-f03a-bd88-61294f4b11cb" title
 ="mailto:jskeath@wustl.edu" href="mailto:jskeath@wustl.edu" data-linkindex=
 "1" data-outlook-id="047f0668-d0fa-4bbc-bd49-e27dd530bfeb">jskeath@wustl.ed
 u</a></u>) or Tracey Hermanystyne (hermanstynet@wustl.edu).</div>
CATEGORIES:DBBS Sponsored Event
LOCATION:McDonnell Medical Sciences Building Cori Interactive Classroom
GEO:0.000000;0.000000
ORGANIZER;CN="Anthony":MAILTO:privitor@wustl.edu
URL;VALUE=URI:https://dbbs.wustl.edu/events/event/next-generation-science-s
 cholars-thanksgiving-dinner/
END:VEVENT
BEGIN:VTIMEZONE
TZID:America/Chicago
BEGIN:STANDARD
TZOFFSETFROM:-0500
TZOFFSETTO:-0600
DTSTART:20251102T070000
TZNAME:CST
END:STANDARD
END:VTIMEZONE
END:VCALENDAR
