BEGIN:VCALENDAR
VERSION:2.0
PRODID:-//Division of Biology &amp; Biomedical Sciences//NONSGML Events//EN
CALSCALE:GREGORIAN
X-ORIGINAL-URL:https://dbbs.wustl.edu/calendar/
X-WR-CALDESC:Division of Biology &amp; Biomedical Sciences - Events
BEGIN:VEVENT
UID:20251119T1804Z-1763575452.3312-EO-50545-1@10.73.4.136
STATUS:CONFIRMED
DTSTAMP:20260424T122943Z
CREATED:20251119T175935Z
LAST-MODIFIED:20251119T175935Z
DTSTART;VALUE=DATE:20251207
DTEND;VALUE=DATE:20251208
SUMMARY: SAC DBBS Volleyball Tournament
DESCRIPTION: It’s time to get our competitive nature together and warm up f
 rom this cold weather at the Second DBBS Winter Volleyball Tournament. We a
 llow 6 players plus two substitutes per team. Non-DBBS students are welcome
 \, but each team must have at least half of its members as DBBS students. D
 on’t miss out on the fun! […]
X-ALT-DESC;FMTTYPE=text/html: <div data-olk-copy-source="MessageBody">It’s 
 time to get our competitive nature together and warm up from this cold weat
 her at the Second DBBS Winter Volleyball Tournament. We allow 6 players plu
 s two substitutes per team. Non-DBBS students are welcome\, but each team m
 ust have at least half of its members as DBBS students.</div><div>Don’t mis
 s out on the fun! If you don’t have a full team\, no problem – we’ll pair y
 ou with other players to make sure everyone gets a chance to play.</div><di
 v class="x_elementToProof"><b>Registration deadline: </b>November 28th! Sig
 n up <a id="OWA87520d60-d769-325a-f333-d0c4f312ad58" class="x_OWAAutoLink" 
 title="Original URL: https://gowustl-my.sharepoint.com/:x:/g/personal/a_sim
 onovic_wustl_edu/EWtIavvO891OkPWo1IRci1UBAvXoI24K6fCP45M5SDcnTQ?rtime=BrdAR
 v0l3kg. Click or tap if you trust this link." href="https://gowustl-my.shar
 epoint.com/:x:/g/personal/a_simonovic_wustl_edu/EWtIavvO891OkPWo1IRci1UBAvX
 oI24K6fCP45M5SDcnTQ?rtime=BrdARv0l3kg&xsdata=MDV8MDJ8YmJyaWFuYUB3dXN0bC5lZH
 V8MDc2ZmY3NzUwODY0NDljODUzNDcwOGRlMjZlMzQ3OGZ8NGNjY2EzYjU3MWNkNGU2ZDk3NGI0Z
 DliZWI5NmM2ZDZ8MHwwfDYzODk5MDk1NDg3NDM2NzA5N3xVbmtub3dufFRXRnBiR1pzYjNkOGV5
 SkZiWEIwZVUxaGNHa2lPblJ5ZFdVc0lsWWlPaUl3TGpBdU1EQXdNQ0lzSWxBaU9pSlhhVzR6TWl
 Jc0lrRk9Jam9pVFdGcGJDSXNJbGRVSWpveWZRPT18MHx8fA%3d%3d&sdata=L0t0ZHVwRy9pVjR
 SdW5sRkUxNXZDWWJSaHc3K3hFSEM0aTNXUTJkYzNzaz0%3d" target="_blank" rel="noope
 ner noreferrer" data-auth="NotApplicable" data-linkindex="0">here</a>.</div
 ><div class="x_elementToProof"></div><div class="x_elementToProof">The even
 t will take place <b>Sunday\, December 7th\, starting at 10:00 am at Olin G
 ym</b> (near Shell Café).</div>
CATEGORIES:DBBS Sponsored Event
LOCATION:TBD
GEO:0.000000;0.000000
ORGANIZER;CN="Anthony":MAILTO:privitor@wustl.edu
URL;VALUE=URI:https://dbbs.wustl.edu/events/event/sac-dbbs-volleyball-tourn
 ament/
END:VEVENT
BEGIN:VTIMEZONE
TZID:America/Chicago
BEGIN:STANDARD
TZOFFSETFROM:-0500
TZOFFSETTO:-0600
DTSTART:20251102T070000
TZNAME:CST
END:STANDARD
END:VTIMEZONE
END:VCALENDAR
