BEGIN:VCALENDAR
VERSION:2.0
PRODID:-//Division of Biology &amp; Biomedical Sciences//NONSGML Events//EN
CALSCALE:GREGORIAN
X-ORIGINAL-URL:https://dbbs.wustl.edu/calendar/
X-WR-CALDESC:Division of Biology &amp; Biomedical Sciences - Events
BEGIN:VEVENT
UID:20230307T1731Z-1678210296.9436-EO-7331-1@172.23.128.18
STATUS:CONFIRMED
DTSTAMP:20260422T223812Z
CREATED:20230228T230454Z
LAST-MODIFIED:20230228T230454Z
DTSTART;TZID=America/Chicago:20230301T160000
DTEND;TZID=America/Chicago:20230301T170000
SUMMARY: Speaker:  Dr. Angela Hancock – TBA
DESCRIPTION: Faculty Search Candidate
X-ALT-DESC;FMTTYPE=text/html: <p>Faculty Search Candidate</p>
LOCATION:Danforth Campus\, Rebstock\, Room 322
GEO:0;0
ORGANIZER;CN="Edward":MAILTO:edelrosario@wustl.edu
URL;VALUE=URI:https://dbbs.wustl.edu/events/event/speaker-dr-angela-hancock
 -tba/
END:VEVENT
BEGIN:VTIMEZONE
TZID:America/Chicago
BEGIN:STANDARD
TZOFFSETFROM:-0500
TZOFFSETTO:-0600
DTSTART:20221106T070000
TZNAME:CST
END:STANDARD
END:VTIMEZONE
END:VCALENDAR
