BEGIN:VCALENDAR
VERSION:2.0
PRODID:-//Division of Biology &amp; Biomedical Sciences//NONSGML Events//EN
CALSCALE:GREGORIAN
X-ORIGINAL-URL:https://dbbs.wustl.edu/calendar/
X-WR-CALDESC:Division of Biology &amp; Biomedical Sciences - Events
BEGIN:VEVENT
UID:20230307T1731Z-1678210297.4234-EO-7584-1@172.23.128.18
STATUS:CONFIRMED
DTSTAMP:20260421T032720Z
CREATED:20230301T194821Z
LAST-MODIFIED:20230301T194821Z
DTSTART;TZID=America/Chicago:20230516T120000
DTEND;TZID=America/Chicago:20230516T130000
SUMMARY: Speaker:   Dr. Wendy Barclay – TBD
X-ALT-DESC;FMTTYPE=text/html: 
CATEGORIES:Microbiology Seminar Series
LOCATION:McDonnell Pediatric Research Building\, 8th Floor\, Room 8101
GEO:0;0
ORGANIZER;CN="Edward":MAILTO:edelrosario@wustl.edu
URL;VALUE=URI:https://dbbs.wustl.edu/events/event/speaker-dr-wendy-barclay-
 tbd/
END:VEVENT
BEGIN:VTIMEZONE
TZID:America/Chicago
BEGIN:DAYLIGHT
TZOFFSETFROM:-0600
TZOFFSETTO:-0500
DTSTART:20230312T080000
TZNAME:CDT
END:DAYLIGHT
END:VTIMEZONE
END:VCALENDAR
