BEGIN:VCALENDAR
VERSION:2.0
PRODID:-//Division of Biology &amp; Biomedical Sciences//NONSGML Events//EN
CALSCALE:GREGORIAN
X-ORIGINAL-URL:https://dbbs.wustl.edu/calendar/
X-WR-CALDESC:Division of Biology &amp; Biomedical Sciences - Events
BEGIN:VEVENT
UID:20230307T1731Z-1678210297.2815-EO-7555-1@172.23.128.18
STATUS:CONFIRMED
DTSTAMP:20260424T122900Z
CREATED:20230301T195028Z
LAST-MODIFIED:20230322T144430Z
DTSTART;TZID=America/Chicago:20230406T120000
DTEND;TZID=America/Chicago:20230406T130000
SUMMARY: Speaker:  Karen Oegema\, PhD – “Time is (not) on your side: mitoti
 c control of G1 progression”
DESCRIPTION: Hosted by: Dr. Susan Dutcher
X-ALT-DESC;FMTTYPE=text/html: <p>Hosted by: Dr. Susan Dutcher</p>
LOCATION:Farrell Learning and Teaching Center\, Connor Auditorium
GEO:0;0
ORGANIZER;CN="Edward":MAILTO:edelrosario@wustl.edu
URL;VALUE=URI:https://dbbs.wustl.edu/events/event/speaker-karen-oegema-phd-
 mitotic-centrosomes-assembly-functions/
END:VEVENT
BEGIN:VTIMEZONE
TZID:America/Chicago
BEGIN:DAYLIGHT
TZOFFSETFROM:-0600
TZOFFSETTO:-0500
DTSTART:20230312T080000
TZNAME:CDT
END:DAYLIGHT
END:VTIMEZONE
END:VCALENDAR
