BEGIN:VCALENDAR
VERSION:2.0
PRODID:-//Division of Biology &amp; Biomedical Sciences//NONSGML Events//EN
CALSCALE:GREGORIAN
X-ORIGINAL-URL:https://dbbs.wustl.edu/calendar/
X-WR-CALDESC:Division of Biology &amp; Biomedical Sciences - Events
BEGIN:VEVENT
UID:20230323T2031Z-1679603487.1719-EO-7805-1@172.23.128.18
STATUS:CONFIRMED
DTSTAMP:20260424T122952Z
CREATED:20230323T135414Z
LAST-MODIFIED:20230323T135414Z
DTSTART;TZID=America/Chicago:20230419T100000
DTEND;TZID=America/Chicago:20230419T120000
SUMMARY: Speaker: Kitra Cates – “Identifying the Molecular Fate Logic Under
 lying Direct Neuronal Reprogramming”
DESCRIPTION: Program: Molecular Genetics & Genomics Lab: Dr. Andrew Yoo\, D
 ept. of Developmental Biology
X-ALT-DESC;FMTTYPE=text/html: <p>Program: Molecular Genetics & Genomics</p>
 <p>Lab: Dr. Andrew Yoo\, Dept. of Developmental Biology</p>
CATEGORIES:DBBS Sponsored Event,DBBS Thesis Examination
LOCATION:Moore Auditorium
GEO:0;0
ORGANIZER;CN="Leslie":MAILTO:leslieskaggs@wustl.edu
URL;VALUE=URI:https://dbbs.wustl.edu/events/event/speaker-kitra-cates-ident
 ifying-the-molecular-fate-logic-underlying-direct-neuronal-reprogramming/
END:VEVENT
BEGIN:VTIMEZONE
TZID:America/Chicago
BEGIN:DAYLIGHT
TZOFFSETFROM:-0600
TZOFFSETTO:-0500
DTSTART:20230312T080000
TZNAME:CDT
END:DAYLIGHT
END:VTIMEZONE
END:VCALENDAR
