BEGIN:VCALENDAR
VERSION:2.0
PRODID:-//Division of Biology &amp; Biomedical Sciences//NONSGML Events//EN
CALSCALE:GREGORIAN
X-ORIGINAL-URL:https://dbbs.wustl.edu/calendar/
X-WR-CALDESC:Division of Biology &amp; Biomedical Sciences - Events
BEGIN:VEVENT
UID:20251202T1923Z-1764703397.9088-EO-50550-1@10.73.4.136
STATUS:CONFIRMED
DTSTAMP:20260422T030413Z
CREATED:20251202T192315Z
LAST-MODIFIED:20251202T192315Z
DTSTART;TZID=America/Chicago:20251215T140000
DTEND;TZID=America/Chicago:20251215T160000
SUMMARY: Speaker: Lily O’Connor – Supporting the next generation: bHLH TF c
 omplexes regulating maize anther development
DESCRIPTION: PhD Laboratory of Dr. Blake C. Meyers Department of Plant Scie
 nces
X-ALT-DESC;FMTTYPE=text/html: <p>PhD</p><p>Laboratory of Dr. Blake C. Meyer
 s</p><p>Department of Plant Sciences</p>
CATEGORIES:DBBS Thesis Examination
LOCATION:Donald Danforth Plant Science Center
GEO:0.000000;0.000000
ORGANIZER;CN="Anthony":MAILTO:privitor@wustl.edu
URL;VALUE=URI:https://dbbs.wustl.edu/events/event/speaker-lily-oconnor-supp
 orting-the-next-generation-bhlh-tf-complexes-regulating-maize-anther-develo
 pment/
END:VEVENT
BEGIN:VTIMEZONE
TZID:America/Chicago
BEGIN:STANDARD
TZOFFSETFROM:-0500
TZOFFSETTO:-0600
DTSTART:20251102T070000
TZNAME:CST
END:STANDARD
END:VTIMEZONE
END:VCALENDAR
