BEGIN:VCALENDAR
VERSION:2.0
PRODID:-//Division of Biology &amp; Biomedical Sciences//NONSGML Events//EN
CALSCALE:GREGORIAN
X-ORIGINAL-URL:https://dbbs.wustl.edu/calendar/
X-WR-CALDESC:Division of Biology &amp; Biomedical Sciences - Events
BEGIN:VEVENT
UID:20230307T1731Z-1678210297.3565-EO-7573-1@172.23.128.18
STATUS:CONFIRMED
DTSTAMP:20260422T192557Z
CREATED:20230301T195412Z
LAST-MODIFIED:20230322T223030Z
DTSTART;TZID=America/Chicago:20230427T160000
DTEND;TZID=America/Chicago:20230427T170000
SUMMARY: Speaker:  Long-Jun Wu – “How Microglia sense and regulate neuronal
  activity”
X-ALT-DESC;FMTTYPE=text/html: 
LOCATION:Connor Auditorium
GEO:38.636879;-90.262646
ORGANIZER;CN="Edward":MAILTO:edelrosario@wustl.edu
URL;VALUE=URI:https://dbbs.wustl.edu/events/event/speaker-long-jun-wu-how-m
 icroglia-sense-and-regulate-neuronal-activity/
END:VEVENT
BEGIN:VTIMEZONE
TZID:America/Chicago
BEGIN:DAYLIGHT
TZOFFSETFROM:-0600
TZOFFSETTO:-0500
DTSTART:20230312T080000
TZNAME:CDT
END:DAYLIGHT
END:VTIMEZONE
END:VCALENDAR
