BEGIN:VCALENDAR
VERSION:2.0
PRODID:-//Division of Biology &amp; Biomedical Sciences//NONSGML Events//EN
CALSCALE:GREGORIAN
X-ORIGINAL-URL:https://dbbs.wustl.edu/calendar/
X-WR-CALDESC:Division of Biology &amp; Biomedical Sciences - Events
BEGIN:VEVENT
UID:20230307T1731Z-1678210297.2357-EO-7543-1@172.23.128.18
STATUS:CONFIRMED
DTSTAMP:20260419T151326Z
CREATED:20230301T195602Z
LAST-MODIFIED:20230301T195602Z
DTSTART;TZID=America/Chicago:20230329T120000
DTEND;TZID=America/Chicago:20230329T130000
SUMMARY: Speaker:  Marian Ros\, PhD – TBD
DESCRIPTION: Please email kriebold@wustl.edu for the zoom link
X-ALT-DESC;FMTTYPE=text/html: <p>Please email kriebold@wustl.edu for the zo
 om link</p>
LOCATION:South Building\, Room 3907\, Philip Needleman Library
GEO:0;0
ORGANIZER;CN="Edward":MAILTO:edelrosario@wustl.edu
URL;VALUE=URI:https://dbbs.wustl.edu/events/event/speaker-marian-ros-phd-tb
 d/
END:VEVENT
BEGIN:VTIMEZONE
TZID:America/Chicago
BEGIN:DAYLIGHT
TZOFFSETFROM:-0600
TZOFFSETTO:-0500
DTSTART:20230312T080000
TZNAME:CDT
END:DAYLIGHT
END:VTIMEZONE
END:VCALENDAR
