BEGIN:VCALENDAR
VERSION:2.0
PRODID:-//Division of Biology &amp; Biomedical Sciences//NONSGML Events//EN
CALSCALE:GREGORIAN
X-ORIGINAL-URL:https://dbbs.wustl.edu/calendar/
X-WR-CALDESC:Division of Biology &amp; Biomedical Sciences - Events
BEGIN:VEVENT
UID:20230307T1731Z-1678210297.4394-EO-7587-1@172.23.128.18
STATUS:CONFIRMED
DTSTAMP:20260419T151324Z
CREATED:20230301T194856Z
LAST-MODIFIED:20230406T142235Z
DTSTART;TZID=America/Chicago:20230518T160000
DTEND;TZID=America/Chicago:20230518T170000
SUMMARY: Speaker:  Michelle Tallquist\, PhD – “Functional Consequences of F
 ibroblast Loss in Tissue Homeostasis and Disease”
DESCRIPTION: For Zoom link\, please contact Debra Hunter – debrah@wustl.edu
X-ALT-DESC;FMTTYPE=text/html: <p>For Zoom link\, please contact Debra Hunte
 r - debrah@wustl.edu</p>
LOCATION:Clinical Sciences Research Building\, North Tower Addition\, Room 801
GEO:0;0
ORGANIZER;CN="Edward":MAILTO:edelrosario@wustl.edu
URL;VALUE=URI:https://dbbs.wustl.edu/events/event/speaker-michelle-tallquis
 t-phd-tba/
END:VEVENT
BEGIN:VTIMEZONE
TZID:America/Chicago
BEGIN:DAYLIGHT
TZOFFSETFROM:-0600
TZOFFSETTO:-0500
DTSTART:20230312T080000
TZNAME:CDT
END:DAYLIGHT
END:VTIMEZONE
END:VCALENDAR
