BEGIN:VCALENDAR
VERSION:2.0
PRODID:-//Division of Biology &amp; Biomedical Sciences//NONSGML Events//EN
CALSCALE:GREGORIAN
X-ORIGINAL-URL:https://dbbs.wustl.edu/calendar/
X-WR-CALDESC:Division of Biology &amp; Biomedical Sciences - Events
BEGIN:VEVENT
UID:20240411T0152Z-1712800320.9488-EO-10659-1@172.23.128.18
STATUS:CONFIRMED
DTSTAMP:20260423T081945Z
CREATED:20240411T014424Z
LAST-MODIFIED:20240411T014424Z
DTSTART;TZID=America/Chicago:20240422T130000
DTEND;TZID=America/Chicago:20240422T150000
SUMMARY: Speaker: Moses Chung – “Developments and Applications of a Physics
 -Based Force Field”
DESCRIPTION: Medical Scientist Training Program Program in Physics Lab of D
 r. Jay Ponder Department of Chemistry
X-ALT-DESC;FMTTYPE=text/html: <p>Medical Scientist Training Program</p><p>P
 rogram in Physics</p><p>Lab of Dr. Jay Ponder<br />Department of Chemistry<
 /p>
LOCATION:Compton Hall\, Room 241\, Danforth Campus
GEO:0.000000;0.000000
ORGANIZER;CN="Brian":MAILTO:bmarston@wustl.edu
URL;VALUE=URI:https://dbbs.wustl.edu/events/event/speaker-moses-chung-devel
 opments-and-applications-of-a-physics-based-force-field/
END:VEVENT
BEGIN:VTIMEZONE
TZID:America/Chicago
BEGIN:DAYLIGHT
TZOFFSETFROM:-0600
TZOFFSETTO:-0500
DTSTART:20240310T080000
TZNAME:CDT
END:DAYLIGHT
END:VTIMEZONE
END:VCALENDAR
