BEGIN:VCALENDAR
VERSION:2.0
PRODID:-//Division of Biology &amp; Biomedical Sciences//NONSGML Events//EN
CALSCALE:GREGORIAN
X-ORIGINAL-URL:https://dbbs.wustl.edu/calendar/
X-WR-CALDESC:Division of Biology &amp; Biomedical Sciences - Events
BEGIN:VEVENT
UID:20260323T1405Z-1774274727.4772-EO-56156-1@10.73.4.136
STATUS:CONFIRMED
DTSTAMP:20260423T194857Z
CREATED:20260323T135147Z
LAST-MODIFIED:20260323T135147Z
DTSTART;TZID=America/Chicago:20260402T100000
DTEND;TZID=America/Chicago:20260402T120000
SUMMARY: Thesis Defense: Borna Novak (MSTP/CSB) “Mapping the Conformational
  Landscape: Bridging Protein Sequence and Function through Deep Learning an
 d Physics-Based Models”
DESCRIPTION: MSTP student\, Borna Novak\, will be defending his thesis titl
 ed “Mapping the Conformational Landscape: Bridging Protein Sequence and Fun
 ction through Deep Learning and Physics-Based Models” Date & Time: Thursday
 \, April 2\, 10:00am Location: FLTC\, Holden Auditorium Borna is in the Com
 putational & Systems Biology program and in the lab of Dr. Alex Holehouse\,
  Department of Biochemistry and Molecular Biophysics.
X-ALT-DESC;FMTTYPE=text/html: <p class="x_MsoNormal"><span data-olk-copy-so
 urce="MessageBody">MSTP student\, <b>Borna Novak\,</b> will be defending hi
 s thesis titled <b>“<i>Mapping the Conformational Landscape: Bridging Prote
 in Sequence and Function through Deep Learning and Physics-Based Models”</i
 ></b></span></p><p class="x_MsoNormal">Date & Time:<b> Thursday\, April 2\,
  10:00am</b></p><p class="x_MsoNormal">Location: <b>FLTC\, Holden Auditoriu
 m</b></p><p class="x_MsoNormal">Borna is in the Computational & Systems Bio
 logy program and in the lab of Dr. Alex Holehouse\, Department of Biochemis
 try and Molecular Biophysics.</p>
CATEGORIES:DBBS Thesis Examination
LOCATION:Farrell Learning and Teaching Center\, Holden Auditorium
GEO:0;0
ORGANIZER;CN="Anthony":MAILTO:privitor@wustl.edu
URL;VALUE=URI:https://dbbs.wustl.edu/events/event/thesis-defense-borna-nova
 k-mstp-csb-mapping-the-conformational-landscape-bridging-protein-sequence-a
 nd-function-through-deep-learning-and-physics-based-models/
END:VEVENT
BEGIN:VTIMEZONE
TZID:America/Chicago
BEGIN:DAYLIGHT
TZOFFSETFROM:-0600
TZOFFSETTO:-0500
DTSTART:20260308T080000
TZNAME:CDT
END:DAYLIGHT
END:VTIMEZONE
END:VCALENDAR
