BEGIN:VCALENDAR
VERSION:2.0
PRODID:-//Division of Biology &amp; Biomedical Sciences//NONSGML Events//EN
CALSCALE:GREGORIAN
X-ORIGINAL-URL:https://dbbs.wustl.edu/calendar/
X-WR-CALDESC:Division of Biology &amp; Biomedical Sciences - Events
BEGIN:VEVENT
UID:20260410T1600Z-1775836836.8297-EO-56274-1@10.73.4.136
STATUS:CONFIRMED
DTSTAMP:20260424T122949Z
CREATED:20260410T155815Z
LAST-MODIFIED:20260410T155815Z
DTSTART;TZID=America/Chicago:20260424T120000
DTEND;TZID=America/Chicago:20260424T140000
SUMMARY: Thesis Defense: Srinand Paruthiyil (MSTP/MGG) “Environmental Expos
 ures Shape Microbiome Composition and Function”
DESCRIPTION: MSTP student\, Srinand Paruthiyil\, will be defending his thes
 is titled “Environmental Exposures Shape Microbiome Composition and Functio
 n” Date & Time: Friday\, April 24th\, 12:00pm Location: North Building\, Mo
 ore Auditorium Sri is in the Molecular Genetics & Genomics program and in t
 he lab of Dr. Gautam Dantas\, Department of Pathology and Immunology.
X-ALT-DESC;FMTTYPE=text/html: <p class="x_MsoNormal"><span data-olk-copy-so
 urce="MessageBody">MSTP student\, <b>Srinand Paruthiyil\,</b> will be defen
 ding his thesis titled <b>“<i>Environmental Exposures Shape Microbiome Comp
 osition and Function”</i></b></span></p><p class="x_MsoNormal">Date & Time:
 <b> Friday\, April 24th\, 12:00pm</b></p><p class="x_MsoNormal">Location: <
 b>North Building\, Moore Auditorium</b></p><p class="x_MsoNormal">Sri is in
  the Molecular Genetics & Genomics program and in the lab of Dr. Gautam Dan
 tas\, Department of Pathology and Immunology.</p>
CATEGORIES:DBBS Thesis Examination
LOCATION:Moore Auditorium
GEO:0;0
ORGANIZER;CN="Anthony":MAILTO:privitor@wustl.edu
URL;VALUE=URI:https://dbbs.wustl.edu/events/event/thesis-defense-srinand-pa
 ruthiyil-mstp-mgg-environmental-exposures-shape-microbiome-composition-and-
 function/
END:VEVENT
BEGIN:VTIMEZONE
TZID:America/Chicago
BEGIN:DAYLIGHT
TZOFFSETFROM:-0600
TZOFFSETTO:-0500
DTSTART:20260308T080000
TZNAME:CDT
END:DAYLIGHT
END:VTIMEZONE
END:VCALENDAR
