BEGIN:VCALENDAR
VERSION:2.0
PRODID:-//Division of Biology &amp; Biomedical Sciences//NONSGML Events//EN
CALSCALE:GREGORIAN
X-ORIGINAL-URL:https://dbbs.wustl.edu/calendar/
X-WR-CALDESC:Division of Biology &amp; Biomedical Sciences - Events
BEGIN:VEVENT
UID:20260127T1504Z-1769526276.7823-EO-54419-1@10.73.4.136
STATUS:CONFIRMED
DTSTAMP:20260424T122937Z
CREATED:20260127T150151Z
LAST-MODIFIED:20260127T173716Z
DTSTART;TZID=America/Chicago:20260211T120000
DTEND;TZID=America/Chicago:20260211T130000
SUMMARY: Wes Fondren Seminar
DESCRIPTION: The Wes Fondren Seminar will be held on February 11\, 2026\, a
 t 12:00 PM in the Moore Auditorium. Wes Fondren\, Ph.D.\, is the associate 
 provost for artificial intelligence\, academic technology\, and professiona
 l development and an associate professor of communication at Coastal Caroli
 na University. RSVP Here
X-ALT-DESC;FMTTYPE=text/html: <p>The Wes Fondren Seminar will be held on Fe
 bruary 11\, 2026\, at 12:00 PM in the Moore Auditorium.</p><p><strong>Wes F
 ondren</strong>\, Ph.D.\, is the associate provost for artificial intellige
 nce\, academic technology\, and professional development and an associate p
 rofessor of communication at Coastal Carolina University.</p><p><strong><a 
 href="https://forms.office.com/Pages/ResponsePage.aspx?id=taPMTM1xbU6XS02b6
 5bG1k2IB5JRGbdCn086e4qlCqdUMkU5MjJYNTNMVzRBQlBPOFhNWFVPVjVEVC4u">RSVP Here<
 /a></strong></p>
LOCATION:Moore Auditorium
GEO:0;0
ORGANIZER;CN="Jasmine Kreuger":MAILTO:jasminek@wustl.edu
URL;VALUE=URI:https://dbbs.wustl.edu/events/event/wes-fondren-seminar/
END:VEVENT
BEGIN:VTIMEZONE
TZID:America/Chicago
BEGIN:STANDARD
TZOFFSETFROM:-0500
TZOFFSETTO:-0600
DTSTART:20251102T070000
TZNAME:CST
END:STANDARD
END:VTIMEZONE
END:VCALENDAR
