BEGIN:VCALENDAR
VERSION:2.0
PRODID:-//Division of Biology &amp; Biomedical Sciences//NONSGML Events//EN
CALSCALE:GREGORIAN
X-ORIGINAL-URL:https://dbbs.wustl.edu/calendar/
X-WR-CALDESC:Division of Biology &amp; Biomedical Sciences - Events
BEGIN:VEVENT
UID:20230411T2223Z-1681251784.0963-EO-7856-1@172.23.128.18
STATUS:CONFIRMED
DTSTAMP:20260424T122930Z
CREATED:20230411T162853Z
LAST-MODIFIED:20230411T162853Z
DTSTART;TZID=America/Chicago:20230511T160000
DTEND;TZID=America/Chicago:20230511T183000
SUMMARY: Winston Fellow Award Competition
DESCRIPTION: Students enrolled in the Interdisciplinary Training in Vision 
 Science (ITVS) Pathway will present their research and compete for the inau
 gural Winston Fellow Award in Ophthalmology and Visual Sciences. Nominees a
 re: Jacob Amme\, Hengen Lab (WashU Biology)\, “Temperature-dependent learni
 ng and metabolic asymmetry shape hunting outcomes” Evelyn Craigen\, Clark L
 ab (WashU DOVS)\, “Right place\, right time: Temporal […]
X-ALT-DESC;FMTTYPE=text/html: <p>Students enrolled in the Interdisciplinary
  Training in Vision Science (ITVS) Pathway will present their research and 
 compete for the inaugural Winston Fellow Award in Ophthalmology and Visual 
 Sciences.</p><p>Nominees are:</p><ul><li>Jacob Amme\, Hengen Lab (WashU Bio
 logy)\, "<em>Temperature-dependent learning and metabolic asymmetry shape h
 unting outcomes"</em></li><li>Evelyn Craigen\, Clark Lab (WashU DOVS)\, "<e
 m>Right place\, right time: Temporal regulation of retinal cell fate"</em><
 /li><li>Jade Enright\, Clark Lab (WashU DOVS)\, "<em>Long non-coding RNAs r
 egulate retinal development"</em></li><li>Sean McCracken\, Williams Lab (Wa
 shU DOVS)\, "<em>Diversity in homeostatic calcium set points predicts retin
 al ganglion cell survival following optic nerve injury in vivo"</em></li><l
 i>Chas Pfeifer\, Apte Lab (WashU DOVS)\, "<em>Targeting CD200-CD200R signal
 ing axis to modulate microglia-driven diabetic retinopathy"</em></li></ul><
 p>Presentations will begin at 4pm\, with a reception to follow at 5:15 duri
 ng which the winner will be announced.</p><p>To attend virtually\, please c
 ontact Jenna Krizan (<a href="mailto:krizanj@wustl.edu">krizanj@wustl.edu</
 a>).</p>
CATEGORIES:DBBS Sponsored Event
LOCATION:Moore Auditorium
GEO:0;0
ORGANIZER;CN="Leslie":MAILTO:leslieskaggs@wustl.edu
URL;VALUE=URI:https://dbbs.wustl.edu/events/event/winston-fellow-award-comp
 etition/
END:VEVENT
BEGIN:VTIMEZONE
TZID:America/Chicago
BEGIN:DAYLIGHT
TZOFFSETFROM:-0600
TZOFFSETTO:-0500
DTSTART:20230312T080000
TZNAME:CDT
END:DAYLIGHT
END:VTIMEZONE
END:VCALENDAR
